Package: curatedBreastData Version: 2.38.0 Command: /home/biocbuild/bbs-3.22-bioc/R/bin/R CMD build --keep-empty-dirs --no-resave-data curatedBreastData StartedAt: 2025-10-30 11:17:08 -0400 (Thu, 30 Oct 2025) EndedAt: 2025-10-30 11:18:55 -0400 (Thu, 30 Oct 2025) EllapsedTime: 106.2 seconds RetCode: 0 Status: OK PackageFile: curatedBreastData_2.38.0.tar.gz PackageFileSize: 283.1 MiB