Package: curatedAdipoRNA Version: 1.26.0 Command: /home/biocbuild/bbs-3.22-bioc/R/bin/R CMD build --keep-empty-dirs --no-resave-data curatedAdipoRNA StartedAt: 2025-11-20 11:13:22 -0500 (Thu, 20 Nov 2025) EndedAt: 2025-11-20 11:14:49 -0500 (Thu, 20 Nov 2025) EllapsedTime: 86.2 seconds RetCode: 0 Status: OK PackageFile: curatedAdipoRNA_1.26.0.tar.gz PackageFileSize: 5.586 MiB