Package: curatedAdipoChIP Version: 1.26.0 Command: /home/biocbuild/bbs-3.22-bioc/R/bin/R CMD build --keep-empty-dirs --no-resave-data curatedAdipoChIP StartedAt: 2025-11-04 11:13:46 -0500 (Tue, 04 Nov 2025) EndedAt: 2025-11-04 11:15:35 -0500 (Tue, 04 Nov 2025) EllapsedTime: 108.6 seconds RetCode: 0 Status: OK PackageFile: curatedAdipoChIP_1.26.0.tar.gz PackageFileSize: 127.7 KiB