Package: curatedAdipoArray Version: 1.22.0 Command: /home/biocbuild/bbs-3.22-bioc/R/bin/R CMD build --keep-empty-dirs --no-resave-data curatedAdipoArray StartedAt: 2025-10-30 11:16:49 -0400 (Thu, 30 Oct 2025) EndedAt: 2025-10-30 11:17:08 -0400 (Thu, 30 Oct 2025) EllapsedTime: 19.1 seconds RetCode: 0 Status: OK PackageFile: curatedAdipoArray_1.22.0.tar.gz PackageFileSize: 36.25 KiB