Package: colonCA Version: 1.52.0 Command: /home/biocbuild/bbs-3.22-bioc/R/bin/R CMD build --keep-empty-dirs --no-resave-data colonCA StartedAt: 2025-11-04 11:13:05 -0500 (Tue, 04 Nov 2025) EndedAt: 2025-11-04 11:13:06 -0500 (Tue, 04 Nov 2025) EllapsedTime: 1.0 seconds RetCode: 0 Status: OK PackageFile: colonCA_1.52.0.tar.gz PackageFileSize: 783.3 KiB