Package: cnvGSAdata Version: 1.46.0 Command: /home/biocbuild/bbs-3.22-bioc/R/bin/R CMD check --install=check:cnvGSAdata.install-out.txt --library=/home/biocbuild/bbs-3.22-bioc/R/site-library --timings cnvGSAdata_1.46.0.tar.gz StartedAt: 2025-11-04 12:08:17 -0500 (Tue, 04 Nov 2025) EndedAt: 2025-11-04 12:09:10 -0500 (Tue, 04 Nov 2025) EllapsedTime: 52.5 seconds RetCode: 0 Status: WARNINGS CheckDir: cnvGSAdata.Rcheck Warnings: 1