Package: clustifyrdatahub Version: 1.20.0 Command: /home/biocbuild/bbs-3.22-bioc/R/bin/R CMD build --keep-empty-dirs --no-resave-data clustifyrdatahub StartedAt: 2025-10-30 11:15:58 -0400 (Thu, 30 Oct 2025) EndedAt: 2025-10-30 11:16:42 -0400 (Thu, 30 Oct 2025) EllapsedTime: 43.7 seconds RetCode: 0 Status: OK PackageFile: clustifyrdatahub_1.20.0.tar.gz PackageFileSize: 299.9 KiB