Package: chipenrich.data Version: 2.32.0 Command: /home/biocbuild/bbs-3.21-bioc/R/bin/R CMD INSTALL chipenrich.data StartedAt: 2025-10-07 11:01:54 -0400 (Tue, 07 Oct 2025) EndedAt: 2025-10-07 11:03:46 -0400 (Tue, 07 Oct 2025) EllapsedTime: 112.2 seconds RetCode: 0 Status: OK