Package: celldex Version: 1.20.0 Command: /home/biocbuild/bbs-3.22-bioc/R/bin/R CMD INSTALL celldex StartedAt: 2025-10-30 11:06:08 -0400 (Thu, 30 Oct 2025) EndedAt: 2025-10-30 11:06:48 -0400 (Thu, 30 Oct 2025) EllapsedTime: 39.5 seconds RetCode: 0 Status: OK