Package: ccdata Version: 1.34.0 Command: /home/biocbuild/bbs-3.21-bioc/R/bin/R CMD build --keep-empty-dirs --no-resave-data ccdata StartedAt: 2025-07-24 11:07:24 -0400 (Thu, 24 Jul 2025) EndedAt: 2025-07-24 11:08:16 -0400 (Thu, 24 Jul 2025) EllapsedTime: 52.0 seconds RetCode: 0 Status: OK PackageFile: ccdata_1.34.0.tar.gz PackageFileSize: 893.9 MiB