Package: cMap2data Version: 1.46.0 Command: /home/biocbuild/bbs-3.22-bioc/R/bin/R CMD INSTALL cMap2data StartedAt: 2025-10-30 10:55:16 -0400 (Thu, 30 Oct 2025) EndedAt: 2025-10-30 10:55:26 -0400 (Thu, 30 Oct 2025) EllapsedTime: 10.2 seconds RetCode: 0 Status: OK