Package: bronchialIL13 Version: 1.48.0 Command: /home/biocbuild/bbs-3.22-bioc/R/bin/R CMD INSTALL bronchialIL13 StartedAt: 2025-10-30 10:56:39 -0400 (Thu, 30 Oct 2025) EndedAt: 2025-10-30 10:56:45 -0400 (Thu, 30 Oct 2025) EllapsedTime: 6.3 seconds RetCode: 0 Status: OK