Package: breastCancerUPP Version: 1.48.0 Command: /home/biocbuild/bbs-3.22-bioc/R/bin/R CMD INSTALL breastCancerUPP StartedAt: 2025-11-06 10:55:17 -0500 (Thu, 06 Nov 2025) EndedAt: 2025-11-06 10:55:20 -0500 (Thu, 06 Nov 2025) EllapsedTime: 2.5 seconds RetCode: 0 Status: OK