Package: breastCancerUPP Version: 1.48.0 Command: /home/biocbuild/bbs-3.22-bioc/R/bin/R CMD build --keep-empty-dirs --no-resave-data breastCancerUPP StartedAt: 2025-11-06 11:08:33 -0500 (Thu, 06 Nov 2025) EndedAt: 2025-11-06 11:08:37 -0500 (Thu, 06 Nov 2025) EllapsedTime: 4.0 seconds RetCode: 0 Status: OK PackageFile: breastCancerUPP_1.48.0.tar.gz PackageFileSize: 29.59 MiB