Package: breakpointRdata Version: 1.26.0 Command: /home/biocbuild/bbs-3.21-bioc/R/bin/R CMD check --install=check:breakpointRdata.install-out.txt --library=/home/biocbuild/bbs-3.21-bioc/R/site-library --timings breakpointRdata_1.26.0.tar.gz StartedAt: 2025-10-02 11:59:55 -0400 (Thu, 02 Oct 2025) EndedAt: 2025-10-02 12:00:15 -0400 (Thu, 02 Oct 2025) EllapsedTime: 19.6 seconds RetCode: 0 Status: OK CheckDir: breakpointRdata.Rcheck Warnings: 0