Package: breakpointRdata Version: 1.26.0 Command: /home/biocbuild/bbs-3.21-bioc/R/bin/R CMD build --keep-empty-dirs --no-resave-data breakpointRdata StartedAt: 2025-10-02 11:07:09 -0400 (Thu, 02 Oct 2025) EndedAt: 2025-10-02 11:07:26 -0400 (Thu, 02 Oct 2025) EllapsedTime: 16.7 seconds RetCode: 0 Status: OK PackageFile: breakpointRdata_1.26.0.tar.gz PackageFileSize: 69.47 MiB