Package: bladderbatch Version: 1.48.0 Command: /home/biocbuild/bbs-3.22-bioc/R/bin/R CMD INSTALL bladderbatch StartedAt: 2025-10-30 10:56:34 -0400 (Thu, 30 Oct 2025) EndedAt: 2025-10-30 10:56:37 -0400 (Thu, 30 Oct 2025) EllapsedTime: 3.6 seconds RetCode: 0 Status: OK