Package: bladderbatch Version: 1.48.0 Command: /home/biocbuild/bbs-3.22-bioc/R/bin/R CMD build --keep-empty-dirs --no-resave-data bladderbatch StartedAt: 2025-10-30 11:12:25 -0400 (Thu, 30 Oct 2025) EndedAt: 2025-10-30 11:12:33 -0400 (Thu, 30 Oct 2025) EllapsedTime: 7.4 seconds RetCode: 0 Status: OK PackageFile: bladderbatch_1.48.0.tar.gz PackageFileSize: 9.197 MiB