Package: biotmleData Version: 1.34.0 Command: /home/biocbuild/bbs-3.22-bioc/R/bin/R CMD INSTALL biotmleData StartedAt: 2025-10-30 10:55:19 -0400 (Thu, 30 Oct 2025) EndedAt: 2025-10-30 10:55:39 -0400 (Thu, 30 Oct 2025) EllapsedTime: 19.8 seconds RetCode: 0 Status: OK