Package: biotmleData Version: 1.34.0 Command: /home/biocbuild/bbs-3.22-bioc/R/bin/R CMD build --keep-empty-dirs --no-resave-data biotmleData StartedAt: 2025-10-30 11:12:18 -0400 (Thu, 30 Oct 2025) EndedAt: 2025-10-30 11:12:22 -0400 (Thu, 30 Oct 2025) EllapsedTime: 4.0 seconds RetCode: 0 Status: OK PackageFile: biotmleData_1.34.0.tar.gz PackageFileSize: 30.67 MiB