Package: beta7 Version: 1.46.0 Command: /home/biocbuild/bbs-3.21-bioc/R/bin/R CMD build --keep-empty-dirs --no-resave-data beta7 StartedAt: 2025-07-24 11:06:33 -0400 (Thu, 24 Jul 2025) EndedAt: 2025-07-24 11:06:42 -0400 (Thu, 24 Jul 2025) EllapsedTime: 9.0 seconds RetCode: 0 Status: OK PackageFile: beta7_1.46.0.tar.gz PackageFileSize: 15.18 MiB