Package: aracne.networks Version: 1.36.0 Command: /home/biocbuild/bbs-3.22-bioc/R/bin/R CMD INSTALL aracne.networks StartedAt: 2025-11-18 10:58:34 -0500 (Tue, 18 Nov 2025) EndedAt: 2025-11-18 10:59:10 -0500 (Tue, 18 Nov 2025) EllapsedTime: 36.8 seconds RetCode: 0 Status: OK