Package: affycompData Version: 1.48.0 Command: /home/biocbuild/bbs-3.22-bioc/R/bin/R CMD INSTALL affycompData StartedAt: 2025-11-20 10:56:27 -0500 (Thu, 20 Nov 2025) EndedAt: 2025-11-20 10:56:35 -0500 (Thu, 20 Nov 2025) EllapsedTime: 7.8 seconds RetCode: 0 Status: OK