Package: adductData Version: 1.26.0 Command: /home/biocbuild/bbs-3.22-bioc/R/bin/R CMD INSTALL adductData StartedAt: 2025-11-20 10:57:27 -0500 (Thu, 20 Nov 2025) EndedAt: 2025-11-20 10:57:37 -0500 (Thu, 20 Nov 2025) EllapsedTime: 10.0 seconds RetCode: 0 Status: OK