Package: adductData Version: 1.26.0 Command: /home/biocbuild/bbs-3.22-bioc/R/bin/R CMD build --keep-empty-dirs --no-resave-data adductData StartedAt: 2025-11-20 11:08:50 -0500 (Thu, 20 Nov 2025) EndedAt: 2025-11-20 11:09:02 -0500 (Thu, 20 Nov 2025) EllapsedTime: 11.4 seconds RetCode: 0 Status: OK PackageFile: adductData_1.26.0.tar.gz PackageFileSize: 7.576 KiB