Package: XhybCasneuf Version: 1.48.0 Command: /home/biocbuild/bbs-3.22-bioc/R/bin/R CMD INSTALL XhybCasneuf StartedAt: 2025-11-04 10:57:20 -0500 (Tue, 04 Nov 2025) EndedAt: 2025-11-04 10:57:33 -0500 (Tue, 04 Nov 2025) EllapsedTime: 12.5 seconds RetCode: 0 Status: OK