Package: XhybCasneuf Version: 1.48.0 Command: /home/biocbuild/bbs-3.22-bioc/R/bin/R CMD check --install=check:XhybCasneuf.install-out.txt --library=/home/biocbuild/bbs-3.22-bioc/R/site-library --timings XhybCasneuf_1.48.0.tar.gz StartedAt: 2025-11-04 13:12:43 -0500 (Tue, 04 Nov 2025) EndedAt: 2025-11-04 13:13:53 -0500 (Tue, 04 Nov 2025) EllapsedTime: 69.4 seconds RetCode: 0 Status: WARNINGS CheckDir: XhybCasneuf.Rcheck Warnings: 1