Package: TumourMethData Version: 1.8.0 Command: /home/biocbuild/bbs-3.22-bioc/R/bin/R CMD INSTALL TumourMethData StartedAt: 2025-10-30 10:59:34 -0400 (Thu, 30 Oct 2025) EndedAt: 2025-10-30 11:00:29 -0400 (Thu, 30 Oct 2025) EllapsedTime: 55.5 seconds RetCode: 0 Status: OK