Package: TumourMethData Version: 1.8.0 Command: /home/biocbuild/bbs-3.22-bioc/R/bin/R CMD build --keep-empty-dirs --no-resave-data TumourMethData StartedAt: 2025-10-30 11:59:56 -0400 (Thu, 30 Oct 2025) EndedAt: 2025-10-30 12:01:01 -0400 (Thu, 30 Oct 2025) EllapsedTime: 64.4 seconds RetCode: 0 Status: OK PackageFile: TumourMethData_1.8.0.tar.gz PackageFileSize: 20.63 KiB