Package: TransOmicsData Version: 1.4.0 Command: /home/biocbuild/bbs-3.21-bioc/R/bin/R CMD INSTALL TransOmicsData StartedAt: 2025-07-24 10:56:40 -0400 (Thu, 24 Jul 2025) EndedAt: 2025-07-24 10:56:44 -0400 (Thu, 24 Jul 2025) EllapsedTime: 3.5 seconds RetCode: 0 Status: OK