Package: TransOmicsData Version: 1.4.0 Command: /home/biocbuild/bbs-3.21-bioc/R/bin/R CMD build --keep-empty-dirs --no-resave-data TransOmicsData StartedAt: 2025-07-24 11:44:18 -0400 (Thu, 24 Jul 2025) EndedAt: 2025-07-24 11:44:31 -0400 (Thu, 24 Jul 2025) EllapsedTime: 13.3 seconds RetCode: 0 Status: OK PackageFile: TransOmicsData_1.4.0.tar.gz PackageFileSize: 232.8 KiB