Package: TENxXeniumData Version: 1.6.0 Command: /home/biocbuild/bbs-3.22-bioc/R/bin/R CMD build --keep-empty-dirs --no-resave-data TENxXeniumData StartedAt: 2025-10-30 11:58:34 -0400 (Thu, 30 Oct 2025) EndedAt: 2025-10-30 12:01:54 -0400 (Thu, 30 Oct 2025) EllapsedTime: 200.2 seconds RetCode: 0 Status: OK PackageFile: TENxXeniumData_1.6.0.tar.gz PackageFileSize: 224.9 KiB