Package: TENxBrainData Version: 1.30.0 Command: /home/biocbuild/bbs-3.22-bioc/R/bin/R CMD INSTALL TENxBrainData StartedAt: 2025-11-04 10:59:06 -0500 (Tue, 04 Nov 2025) EndedAt: 2025-11-04 10:59:39 -0500 (Tue, 04 Nov 2025) EllapsedTime: 33.0 seconds RetCode: 0 Status: OK