Package: TENxBrainData Version: 1.30.0 Command: /home/biocbuild/bbs-3.22-bioc/R/bin/R CMD build --keep-empty-dirs --no-resave-data TENxBrainData StartedAt: 2025-11-04 11:46:00 -0500 (Tue, 04 Nov 2025) EndedAt: 2025-11-04 11:48:17 -0500 (Tue, 04 Nov 2025) EllapsedTime: 137.0 seconds RetCode: 0 Status: OK PackageFile: TENxBrainData_1.30.0.tar.gz PackageFileSize: 437.7 KiB