Package: TCGAcrcmRNA Version: 1.30.0 Command: /home/biocbuild/bbs-3.22-bioc/R/bin/R CMD INSTALL TCGAcrcmRNA StartedAt: 2025-11-04 10:56:09 -0500 (Tue, 04 Nov 2025) EndedAt: 2025-11-04 10:56:10 -0500 (Tue, 04 Nov 2025) EllapsedTime: 1.9 seconds RetCode: 0 Status: OK