Package: TCGAMethylation450k Version: 1.46.0 Command: /home/biocbuild/bbs-3.22-bioc/R/bin/R CMD build --keep-empty-dirs --no-resave-data TCGAMethylation450k StartedAt: 2025-11-04 11:45:50 -0500 (Tue, 04 Nov 2025) EndedAt: 2025-11-04 11:46:08 -0500 (Tue, 04 Nov 2025) EllapsedTime: 18.2 seconds RetCode: 0 Status: OK PackageFile: TCGAMethylation450k_1.46.0.tar.gz PackageFileSize: 81.02 MiB