Package: SpikeIn Version: 1.52.0 Command: /home/biocbuild/bbs-3.22-bioc/R/bin/R CMD INSTALL SpikeIn StartedAt: 2025-10-30 10:56:38 -0400 (Thu, 30 Oct 2025) EndedAt: 2025-10-30 10:56:49 -0400 (Thu, 30 Oct 2025) EllapsedTime: 11.4 seconds RetCode: 0 Status: OK