Package: SomaticCancerAlterations Version: 1.46.0 Command: /home/biocbuild/bbs-3.22-bioc/R/bin/R CMD check --install=check:SomaticCancerAlterations.install-out.txt --library=/home/biocbuild/bbs-3.22-bioc/R/site-library --timings SomaticCancerAlterations_1.46.0.tar.gz StartedAt: 2025-11-04 12:59:07 -0500 (Tue, 04 Nov 2025) EndedAt: 2025-11-04 13:00:25 -0500 (Tue, 04 Nov 2025) EllapsedTime: 78.4 seconds RetCode: 0 Status: OK CheckDir: SomaticCancerAlterations.Rcheck Warnings: 0