Package: SomaticCancerAlterations Version: 1.46.0 Command: /home/biocbuild/bbs-3.22-bioc/R/bin/R CMD build --keep-empty-dirs --no-resave-data SomaticCancerAlterations StartedAt: 2025-11-04 11:43:48 -0500 (Tue, 04 Nov 2025) EndedAt: 2025-11-04 11:44:17 -0500 (Tue, 04 Nov 2025) EllapsedTime: 28.9 seconds RetCode: 0 Status: OK PackageFile: SomaticCancerAlterations_1.46.0.tar.gz PackageFileSize: 4.442 MiB