Package: SVM2CRMdata Version: 1.40.0 Command: /home/biocbuild/bbs-3.21-bioc/R/bin/R CMD build --keep-empty-dirs --no-resave-data SVM2CRMdata StartedAt: 2025-07-24 11:40:37 -0400 (Thu, 24 Jul 2025) EndedAt: 2025-07-24 11:44:01 -0400 (Thu, 24 Jul 2025) EllapsedTime: 203.9 seconds RetCode: 0 Status: OK PackageFile: SVM2CRMdata_1.40.0.tar.gz PackageFileSize: 345 MiB