Package: STexampleData Version: 1.16.0 Command: /home/biocbuild/bbs-3.21-bioc/R/bin/R CMD INSTALL STexampleData StartedAt: 2025-07-24 10:59:45 -0400 (Thu, 24 Jul 2025) EndedAt: 2025-07-24 11:00:14 -0400 (Thu, 24 Jul 2025) EllapsedTime: 29.3 seconds RetCode: 0 Status: OK