Package: STexampleData Version: 1.16.0 Command: /home/biocbuild/bbs-3.21-bioc/R/bin/R CMD build --keep-empty-dirs --no-resave-data STexampleData StartedAt: 2025-07-24 11:40:36 -0400 (Thu, 24 Jul 2025) EndedAt: 2025-07-24 11:42:16 -0400 (Thu, 24 Jul 2025) EllapsedTime: 99.1 seconds RetCode: 0 Status: OK PackageFile: STexampleData_1.16.0.tar.gz PackageFileSize: 235.5 KiB