Package: SNPhoodData Version: 1.40.0 Command: /home/biocbuild/bbs-3.22-bioc/R/bin/R CMD build --keep-empty-dirs --no-resave-data SNPhoodData StartedAt: 2025-11-04 11:43:44 -0500 (Tue, 04 Nov 2025) EndedAt: 2025-11-04 11:44:03 -0500 (Tue, 04 Nov 2025) EllapsedTime: 18.3 seconds RetCode: 0 Status: OK PackageFile: SNPhoodData_1.40.0.tar.gz PackageFileSize: 233.5 MiB