Package: SNAGEEdata Version: 1.46.0 Command: /home/biocbuild/bbs-3.22-bioc/R/bin/R CMD build --keep-empty-dirs --no-resave-data SNAGEEdata StartedAt: 2025-11-04 11:43:43 -0500 (Tue, 04 Nov 2025) EndedAt: 2025-11-04 11:43:45 -0500 (Tue, 04 Nov 2025) EllapsedTime: 2.3 seconds RetCode: 0 Status: OK PackageFile: SNAGEEdata_1.46.0.tar.gz PackageFileSize: 29.22 MiB