Package: RnaSeqSampleSizeData Version: 1.42.0 Command: /home/biocbuild/bbs-3.22-bioc/R/bin/R CMD INSTALL RnaSeqSampleSizeData StartedAt: 2025-10-30 10:57:02 -0400 (Thu, 30 Oct 2025) EndedAt: 2025-10-30 10:57:05 -0400 (Thu, 30 Oct 2025) EllapsedTime: 3.3 seconds RetCode: 0 Status: OK