Package: RnaSeqSampleSizeData Version: 1.41.0 Command: /home/biocbuild/bbs-3.22-bioc/R/bin/R CMD check --install=check:RnaSeqSampleSizeData.install-out.txt --library=/home/biocbuild/bbs-3.22-bioc/R/site-library --timings RnaSeqSampleSizeData_1.41.0.tar.gz StartedAt: 2025-10-28 12:55:21 -0400 (Tue, 28 Oct 2025) EndedAt: 2025-10-28 12:55:50 -0400 (Tue, 28 Oct 2025) EllapsedTime: 28.7 seconds RetCode: 0 Status: OK CheckDir: RnaSeqSampleSizeData.Rcheck Warnings: 0