Package: RnBeads.rn5 Version: 1.42.0 Command: /home/biocbuild/bbs-3.22-bioc/R/bin/R CMD INSTALL RnBeads.rn5 StartedAt: 2025-10-30 10:59:15 -0400 (Thu, 30 Oct 2025) EndedAt: 2025-10-30 10:59:29 -0400 (Thu, 30 Oct 2025) EllapsedTime: 14.3 seconds RetCode: 0 Status: OK