Package: RUVnormalizeData Version: 1.30.0 Command: /home/biocbuild/bbs-3.22-bioc/R/bin/R CMD build --keep-empty-dirs --no-resave-data RUVnormalizeData StartedAt: 2025-11-04 11:40:48 -0500 (Tue, 04 Nov 2025) EndedAt: 2025-11-04 11:40:54 -0500 (Tue, 04 Nov 2025) EllapsedTime: 6.3 seconds RetCode: 0 Status: OK PackageFile: RUVnormalizeData_1.30.0.tar.gz PackageFileSize: 7.726 MiB