Package: RTCGA.rnaseq Version: 20151101.38.0 Command: /home/biocbuild/bbs-3.21-bioc/R/bin/R CMD INSTALL RTCGA.rnaseq StartedAt: 2025-07-24 10:58:12 -0400 (Thu, 24 Jul 2025) EndedAt: 2025-07-24 11:01:08 -0400 (Thu, 24 Jul 2025) EllapsedTime: 175.3 seconds RetCode: 0 Status: OK