Package: RTCGA.mutations Version: 20151101.40.0 Command: /home/biocbuild/bbs-3.22-bioc/R/bin/R CMD INSTALL RTCGA.mutations StartedAt: 2025-10-30 11:08:07 -0400 (Thu, 30 Oct 2025) EndedAt: 2025-10-30 11:11:35 -0400 (Thu, 30 Oct 2025) EllapsedTime: 208.2 seconds RetCode: 0 Status: OK